BEGIN:VCALENDAR
VERSION:2.0
PRODID:-//Tukios.com/
BEGIN:VEVENT
UID:7e7cb58b-dda7-4532-b15b-2fc8db02ef16@www.geelanfuneralhome.com
DTSTAMP:20260419T233423Z
DTSTART:20260423T210000Z
DTEND:20260424T000000Z
SUMMARY:Visitation
DESCRIPTION:
URL:https://www.geelanfuneralhome.com/obituaries/kenneth-kenny-krug
LOCATION:First Untied Methodist Church 801 Broadway Street  Emmetsburg IA 
	50536
GEO:43.1126815;-94.6793554
END:VEVENT
END:VCALENDAR