BEGIN:VCALENDAR
VERSION:2.0
PRODID:-//Tukios.com/
BEGIN:VEVENT
UID:33e8fef5-1219-4e4b-a461-8fd55b136668@www.geelanfuneralhome.com
DTSTAMP:20260419T233316Z
DTSTART:20260424T160000Z
DTEND:20260424T170000Z
SUMMARY:Funeral Service
DESCRIPTION:
URL:https://www.geelanfuneralhome.com/obituaries/kenneth-kenny-krug
LOCATION: 801 Broadway Street  Emmetsburg IA 50536
GEO:43.1126815;-94.6793554
END:VEVENT
END:VCALENDAR