BEGIN:VCALENDAR
VERSION:2.0
PRODID:-//Tukios.com/
BEGIN:VEVENT
UID:9c7ac808-ff10-44c4-855e-05c5a8a81d49@www.geelanfuneralhome.com
DTSTAMP:20260419T233321Z
DTSTART:20260424T170000Z
DTEND:20260424T173000Z
SUMMARY:Interment
DESCRIPTION:
URL:https://www.geelanfuneralhome.com/obituaries/kenneth-kenny-krug
LOCATION:West Bend Cemetery 5739 475th St  West Bend IA 50597
GEO:42.9600481;-94.4545528
END:VEVENT
END:VCALENDAR